BEGIN:VCALENDAR
VERSION:2.0
PRODID:-//Ocean City MD Restaurants | Ropewalk - ECPv5.16.4.1//NONSGML v1.0//EN
CALSCALE:GREGORIAN
METHOD:PUBLISH
X-WR-CALNAME:Ocean City MD Restaurants | Ropewalk
X-ORIGINAL-URL:https://oceancity.ropewalk.com
X-WR-CALDESC:Events for Ocean City MD Restaurants | Ropewalk
BEGIN:VTIMEZONE
TZID:America/New_York
BEGIN:DAYLIGHT
TZOFFSETFROM:-0500
TZOFFSETTO:-0400
TZNAME:EDT
DTSTART:20180311T070000
END:DAYLIGHT
BEGIN:STANDARD
TZOFFSETFROM:-0400
TZOFFSETTO:-0500
TZNAME:EST
DTSTART:20181104T060000
END:STANDARD
END:VTIMEZONE
BEGIN:VEVENT
DTSTART;TZID=America/New_York:20180525T220000
DTEND;TZID=America/New_York:20180526T020000
DTSTAMP:20260420T131305
CREATED:20180425T133814Z
LAST-MODIFIED:20180530T125522Z
UID:924-1527285600-1527300000@oceancity.ropewalk.com
SUMMARY:DJ Papi Roisterous
DESCRIPTION:
URL:https://oceancity.ropewalk.com/event/dj-papi-roisterous/
END:VEVENT
BEGIN:VEVENT
DTSTART;TZID=America/New_York:20180526T120000
DTEND;TZID=America/New_York:20180526T160000
DTSTAMP:20260420T131305
CREATED:20180410T180357Z
LAST-MODIFIED:20180410T180357Z
UID:687-1527336000-1527350400@oceancity.ropewalk.com
SUMMARY:Andrew Robear
DESCRIPTION:
URL:https://oceancity.ropewalk.com/event/andrew-robear/
END:VEVENT
BEGIN:VEVENT
DTSTART;TZID=America/New_York:20180526T160000
DTEND;TZID=America/New_York:20180526T200000
DTSTAMP:20260420T131305
CREATED:20180410T180433Z
LAST-MODIFIED:20180410T180433Z
UID:689-1527350400-1527364800@oceancity.ropewalk.com
SUMMARY:Monkey Paw
DESCRIPTION:
URL:https://oceancity.ropewalk.com/event/monkey-paw-15/
END:VEVENT
BEGIN:VEVENT
DTSTART;TZID=America/New_York:20180526T220000
DTEND;TZID=America/New_York:20180527T020000
DTSTAMP:20260420T131305
CREATED:20180425T133840Z
LAST-MODIFIED:20180530T125354Z
UID:926-1527372000-1527386400@oceancity.ropewalk.com
SUMMARY:DJ Papi Roisterous
DESCRIPTION:
URL:https://oceancity.ropewalk.com/event/dj-papi-roisterous-2/
END:VEVENT
END:VCALENDAR