BEGIN:VCALENDAR
VERSION:2.0
PRODID:-//Ocean City MD Restaurants | Ropewalk - ECPv5.16.4.1//NONSGML v1.0//EN
CALSCALE:GREGORIAN
METHOD:PUBLISH
X-WR-CALNAME:Ocean City MD Restaurants | Ropewalk
X-ORIGINAL-URL:https://oceancity.ropewalk.com
X-WR-CALDESC:Events for Ocean City MD Restaurants | Ropewalk
BEGIN:VTIMEZONE
TZID:America/New_York
BEGIN:DAYLIGHT
TZOFFSETFROM:-0500
TZOFFSETTO:-0400
TZNAME:EDT
DTSTART:20200308T070000
END:DAYLIGHT
BEGIN:STANDARD
TZOFFSETFROM:-0400
TZOFFSETTO:-0500
TZNAME:EST
DTSTART:20201101T060000
END:STANDARD
END:VTIMEZONE
BEGIN:VEVENT
DTSTART;TZID=America/New_York:20200114T183000
DTEND;TZID=America/New_York:20200114T220000
DTSTAMP:20260424T055619
CREATED:20191018T142031Z
LAST-MODIFIED:20191018T142031Z
UID:1609-1579026600-1579039200@oceancity.ropewalk.com
SUMMARY:Paint Night
DESCRIPTION:Benefiting United Way
URL:https://oceancity.ropewalk.com/event/paint-night/
END:VEVENT
END:VCALENDAR